BEGIN:VCALENDAR
VERSION:2.0
PRODID:-//La Maison - ECPv5.3.0//NONSGML v1.0//EN
CALSCALE:GREGORIAN
METHOD:PUBLISH
X-WR-CALNAME:La Maison
X-ORIGINAL-URL:https://www.la-maison.be
X-WR-CALDESC:Événements pour La Maison
BEGIN:VTIMEZONE
TZID:UTC
BEGIN:STANDARD
TZOFFSETFROM:+0000
TZOFFSETTO:+0000
TZNAME:UTC
DTSTART:20260101T000000
END:STANDARD
END:VTIMEZONE
BEGIN:VEVENT
DTSTART;TZID=UTC:20260425T093000
DTEND;TZID=UTC:20260425T170000
DTSTAMP:20260421T083107
CREATED:20240621T142622Z
LAST-MODIFIED:20260122T115532Z
UID:12321-1777109400-1777136400@www.la-maison.be
SUMMARY:ATELIER - THE MONEY GAME EXPERIENCE !
DESCRIPTION:Explore ton rapport à l’argent et prends conscience de tes fonctionnements  à travers une expérience unique qui pourrait tout changer ! \nTu aimerais que l’argent circule de manière plus fluide dans ta vie et tes projets (privés ou pros)  ? Vivre moins de stress et de tensions lorsqu’il s’agit de payer tes factures\, investir\, dépenser\, perdre\, … Goûter à la joie de recevoir\, gagner\, demander de l’argent … \nNous te proposons de vivre une expérience UNIQUE et IMPACTANTE autour de ce thème central dans nos vies\, que ça nous plaise ou non. \nCONCRETEMENT\, l’atelier se déroule en 2 parties :  \nUne journée en collectif : à travers diverses expériences concrètes\, tu auras l’occasion d’explorer et d’observer les habitudes et croyances inconscientes qui conditionnent ta relation à l’argent\, d’apprendre par l’expérience dans un cadre sécurisé\, en regardant\, avec bienveillance\, tes comportements et interactions avec le reste du groupe. \nL’approche proposée se veut EXPERIENTIELLE plutôt que théorique. La journée sera ponctuée d’exercices ludiques et interactifs et de moments de debriefing afin de mettre en lumière tes fonctionnements. \nune séance de coaching individuel d’1h30 (en visio ou en présentiel) : afin d’approfondir le travail de transformation intérieure de manière personnalisée \n💰 Tarifs \nPrix pour l’atelier d’une journée ET le coaching individuel : \n Tarif solidaire – si tu as envie de participer et que ton budget est serré \n\nParticuliers : 195 € TTC\nEntreprise : 295 € HTVA\n\n Tarif juste – si tu souhaites payer le juste prix \n\nParticuliers : 245 € TTC\nEntreprise : 360 € HTVA\n\nTarif soutien – si tu as envie de soutenir la sérénité avec l’argent au-delà de toi \n\nParticuliers : 290 € TTC\nEntreprises : 410 € HTVA\n\nSi l’argent est un frein à ta participation mais que vous sentez que cet atelier est l’occasion de vous libérer de ce blocage\, possibilité de paiement échelonné. Parlons-en !  \nSi l’argent est un frein à votre participation mais que vous sentez que cet atelier est justement l’occasion de vous libérer de ce blocage\, n’hésitez pas à nous en faire part. \n Animation : Evelyne Faniel & Chantal Marchand\, spécialistes de la relation à l’argent formées avec Peter Koenig \nNombre de participants : entre 6 et 10. \nInscription ? Envoie un mail à l’adresse e.faniel@o-s-e.be \, en indiquant tes coordonnées complètes de facturation et ton numéro de GSM\, avec la mention « Money game + date» \n 
URL:https://www.la-maison.be/agenda/the-money-game-experience-2-2/
LOCATION:La Maison\, Rue Grètry 6\, Verviers\, 4800\, Belgium
ATTACH;FMTTYPE=image/jpeg:https://www.la-maison.be/wp-content/uploads/2024/06/illustration.jpg
ORGANIZER;CN="Evelyne%20-%20OSE":MAILTO:e-faniel@o-s-e.be
END:VEVENT
END:VCALENDAR