BEGIN:VCALENDAR
VERSION:2.0
PRODID:-//La Maison - ECPv5.3.0//NONSGML v1.0//EN
CALSCALE:GREGORIAN
METHOD:PUBLISH
X-WR-CALNAME:La Maison
X-ORIGINAL-URL:https://www.la-maison.be
X-WR-CALDESC:Événements pour La Maison
BEGIN:VTIMEZONE
TZID:UTC
BEGIN:STANDARD
TZOFFSETFROM:+0000
TZOFFSETTO:+0000
TZNAME:UTC
DTSTART:20250101T000000
END:STANDARD
END:VTIMEZONE
BEGIN:VEVENT
DTSTART;TZID=UTC:20250928T100000
DTEND;TZID=UTC:20250928T173000
DTSTAMP:20260421T143048
CREATED:20250901T081354Z
LAST-MODIFIED:20250901T081354Z
UID:12241-1759053600-1759080600@www.la-maison.be
SUMMARY:Rencontre "La vie m'amène aux pauses"
DESCRIPTION: Marie-Véronique Buchet\, sage-femme et accompagnante au changement de regard\, créatrice des rencontres « la vie m’amène aux pauses »\, invite à La Maison Salomé Mulongo\, doula de transition et autrice de « Le livre de la ménopause : de la femme lunaire à la femme solaire » \nCette fois\, la rencontre est réservée aux femmes. \nEnsemble\, Marie-Véronique et Salomé proposent un espace co-créé\, un temps sacré\, à partir de leurs propres rencontres\, leurs échanges\, leurs spécificités et ce qu’elles se réjouissent de partager pour l’avoir exploré et expérimenté. \nEn suivant le Fil de leurs inspirations\, elles ont ainsi vu se dessiner une tresse\, un tissage sur mesure car\, à leurs côtés\, vous allez faire de cette journée la vôtre ! \nEn effet\, c’est à partir de cette invitation faite aux participantes — « Quelle question aimerais-tu voir éclairée au cours de cette journée ? » — qu’elles vont se laisser guider\, en s’appuyant sur les besoins et les ressources de chacune. \nLeur trame ?\nUn programme riche\, varié et souple selon ce qui va se vivre. \nLe matin : \n– accueil et présentation de chacune\, recueil des questions\n– pause musicale avec une boisson alchimique\n– tressage à partir des questions \nLe midi : \n– préparation et partage d’un lunch adapté à la péri-ménopause\n– réinformations « de l’assiette à l’Assise »\n– présentation du livre de Salomé et sa méthode E.V.E.I.L. \nL’après-midi : \n– balade digestive et nouveaux partages\n– « vendanges » 2025 (le fruit qui s’en dessine) éclairées par le regard du tarot\n– mouvements naturels\n– clôture et recommandations pour l’intégration de la journée\n– soin d’accordance physique\, énergétique et symbolique avec la Harpe de Cristal \nPratiquement : \nTarif – boisson alchimique\, repas\, tisane et eau compris :\nJusqu’au 14 septembre : 130€\nLast minute : 140€ \nInscription :\nmarieveroniquebuchet@gmail.com \nPour le confort de chacune\, la fluidité de la rencontre et des partages\, le nombre de place est limité. \nÀ bientôt pour cette sacrée journée\, journée sacrée !
URL:https://www.la-maison.be/agenda/rencontre-la-vie-mamene-aux-pauses-2/
LOCATION:La Maison\, Rue Grètry 6\, Verviers\, 4800\, Belgium
ATTACH;FMTTYPE=image/jpeg:https://www.la-maison.be/wp-content/uploads/2025/09/Rencontre-28-septembre.jpg
ORGANIZER;CN="Marie-V%C3%A9ronique%20Buchet":MAILTO:marieveroniquebuchet@gmail.com
END:VEVENT
END:VCALENDAR