BEGIN:VCALENDAR
VERSION:2.0
PRODID:-//La Maison - ECPv5.3.0//NONSGML v1.0//EN
CALSCALE:GREGORIAN
METHOD:PUBLISH
X-WR-CALNAME:La Maison
X-ORIGINAL-URL:https://www.la-maison.be
X-WR-CALDESC:Événements pour La Maison
BEGIN:VTIMEZONE
TZID:UTC
BEGIN:STANDARD
TZOFFSETFROM:+0000
TZOFFSETTO:+0000
TZNAME:UTC
DTSTART:20260101T000000
END:STANDARD
END:VTIMEZONE
BEGIN:VEVENT
DTSTART;TZID=UTC:20260131T090000
DTEND;TZID=UTC:20260131T170000
DTSTAMP:20260421T112354
CREATED:20251203T203909Z
LAST-MODIFIED:20251203T203909Z
UID:12303-1769850000-1769878800@www.la-maison.be
SUMMARY:Formation en accompagnement parental
DESCRIPTION:Dès la fin du mois de janvier\, rejoignez Caroline Grenade et son équipe de formatrices chevronnées dans l’unique formation en soutien à la parentalité en présentiel\, en Belgique. \nElle s’adresse à tous ceux qui oeuvrent déjà dans les domaines de la santé\, la santé mentale\, l’enseignement\, le social et le bien-être et qui souhaitent ajouter une corde à leur arc. \nEgalement\, nous nous adressons à ceux qui souhaitent se ré orienter et développer une profession humaine\, qui fait sens au quotidien. \nEnfin\, notre formation est idéale pour tous les parents qui souhaitent investir dans leur rôle et voir évoluer leur posture et compétences parentales. \nLa formation théorique s’étend sur 12 mois à raison d’un week-end par mois et est ensuite suivie de 6 mois de stage pratique. \nLes thèmes abordés sont : \n\nLes fondamentaux de la profession\nLes compétences émotionnelles\nLe lien à soi\, le lien à l’autre\nPsychologie de la parentalité\nL’adolescence et ses défis\nLe burn-out parental\nLa discipline positive et la juste autorité\nGestion du stress et légitimité\nLe vivre ensemble\, gestion des conflits…\nApprentissages et développement\nAnalyse de pratiques\, posture et outils professionnels\n\nNotre formation est résolument impactante et humaine. Elle prend en compte la famille dans sa globalité. \nSi vous désirez davantage d’information\, merci de contacter Caroline au 0493 30 97 34 ou par mail à l’adresse: \ninfo@carolinegrenade.be
URL:https://www.la-maison.be/agenda/formation-en-accompagnement-parental/
LOCATION:La Maison\, Rue Grètry 6\, Verviers\, 4800\, Belgium
ATTACH;FMTTYPE=image/jpeg:https://www.la-maison.be/wp-content/uploads/2025/12/Image-promo-formation-coaching-parental.jpg
ORGANIZER;CN="Caroline%20Grenade":MAILTO:carogrenade80@gmail.com
END:VEVENT
END:VCALENDAR