BEGIN:VCALENDAR
VERSION:2.0
PRODID:-//La Maison - ECPv5.3.0//NONSGML v1.0//EN
CALSCALE:GREGORIAN
METHOD:PUBLISH
X-WR-CALNAME:La Maison
X-ORIGINAL-URL:https://www.la-maison.be
X-WR-CALDESC:Événements pour La Maison
BEGIN:VTIMEZONE
TZID:UTC
BEGIN:STANDARD
TZOFFSETFROM:+0000
TZOFFSETTO:+0000
TZNAME:UTC
DTSTART:20230101T000000
END:STANDARD
END:VTIMEZONE
BEGIN:VEVENT
DTSTART;TZID=UTC:20230711T190000
DTEND;TZID=UTC:20230829T200000
DTSTAMP:20260426T031341
CREATED:20230616T212759Z
LAST-MODIFIED:20230716T194332Z
UID:11663-1689102000-1693339200@www.la-maison.be
SUMMARY:Estival danse Nia®
DESCRIPTION:NON\, NON LES INSCRIPTIONS NE SONT PAS FERMÉES\, POUR VOUS INSCRIRE UTILISEZ LE LIEN jodavidsetcie@gmail.com\n\n💃 VOTRE ENVIE DE DANSER ET SURTOUT DE DANSER EN PLEIN AIR EST PLUS FORTE QUE TOUT… alors réjouissez-vous\, venez participer aux cours de Nia® tous les mardis 19h à partir du 11 juillet\, dans le très beau jardin de «La Maison».\n\n\nNia® fête cette année ses 40 ans et a été créé par Carlos Rosas et Debbie Rosas. Durant ces 4 décennies\, Debbie n’a eu de cesse d’améliorer et de peaufiner la technique en suivant les changements énergétiques. \nComme l’ont appris des milliers de pratiquants de Nia®\, lorsque vous comprenez les 6 principes fondamentaux et commencez à les appliquer dans votre corps et votre vie\, tout commence à changer. \n\nLes voici: \n1/ La joie du mouvement est le secret de la forme physique. \n2/ Le fitness doit s’adresser à l’être humain\, pas seulement au corps. \n3/ Le mouvement doit être conscient\, et non habituel. \n4/ Utilisez votre corps comme il a été conçu pour être utilisé. \n5/ Utilisez votre corps pour guérir votre mental\, vos émotions et votre esprit. \n6/ Prenez le chemin de la moindre résistance. \nAu fur et à mesure des semaines\, vous serez amené à approfondir ces 6 principes. \n\n\n\n\nPrix: 10€ le cours ou 45€ pour 5 cours.\n\n\n\n\n\n\n  Inscription : jodavidsetcie@gmail.com\n\n\nLors de votre inscription vous recevrez une invitation pour rejoindre un groupe Whatsapp sur lequel je vous avertirai si le cours du jour a lieu ou pas en fonction de la météo.\n\n\n\n\nVenez fêter l’été en dansant Nia® \nJoy’celyne 💃\n\n\nAnimation: Jocelyne Davids
URL:https://www.la-maison.be/agenda/estival-danse-nia/
CATEGORIES:Autre
ATTACH;FMTTYPE=image/png:https://www.la-maison.be/wp-content/uploads/2023/06/Site-Maison2.png
ORGANIZER;CN="Jocelyne%20Davids":MAILTO:jodavidsetcie@gmail.com
END:VEVENT
END:VCALENDAR