BEGIN:VCALENDAR
VERSION:2.0
PRODID:-//La Maison - ECPv5.3.0//NONSGML v1.0//EN
CALSCALE:GREGORIAN
METHOD:PUBLISH
X-WR-CALNAME:La Maison
X-ORIGINAL-URL:https://www.la-maison.be
X-WR-CALDESC:Événements pour La Maison
BEGIN:VTIMEZONE
TZID:UTC
BEGIN:STANDARD
TZOFFSETFROM:+0000
TZOFFSETTO:+0000
TZNAME:UTC
DTSTART:20250101T000000
END:STANDARD
END:VTIMEZONE
BEGIN:VEVENT
DTSTART;TZID=UTC:20251023T133000
DTEND;TZID=UTC:20251024T170000
DTSTAMP:20260421T083136
CREATED:20250831T154344Z
LAST-MODIFIED:20250904T104917Z
UID:12227-1761226200-1761325200@www.la-maison.be
SUMMARY:Atelier pour les ados – développement personnel et créativité 
DESCRIPTION:Tu as entre 11 et 15 ans et tu as envie de mieux te comprendre\, de t’affirmer et de trouver des outils pour avancer avec confiance ?\nCes deux ateliers sont faits pour toi ! \n23 octobre – “L’alchimie des émotions”\nUn après-midi pour apprivoiser tes émotions\, apprendre à les reconnaître et à les transformer en force.\nAu programme : expériences sensorielles\, créations artistiques\, jeux d’expression et moments de partage. \n24 octobre – “L’art d’être unique”\nUn espace pour célébrer ton unicité\, découvrir tes talents et affirmer qui tu es vraiment.\nAu programme : art-thérapie (dessin\, collage\, écriture intuitive)\, exercices de conscience de soi et rituels symboliques. \nLes jeunes peuvent participer à une seule rencontre ou aux deux.\nLes ateliers sont pensés pour être ludiques\, créatifs et ressourçants\, sans jugement. \nHoraire : 13h30 – 17h\nPrix : 35 € par après-midi\nPlaces limitées à 6 participants pour préserver un cadre intime et sécurisant. \nAnimé par Fanny Royen – Pot-en-ciel \n📞 Infos & inscriptions : 0472/619401\n🌐 www.pot-en-ciel.be \nPage Facebook Pot-en-ciel \n 
URL:https://www.la-maison.be/agenda/atelier-pour-les-ados-developpement-personnel-et-creativite/
ATTACH;FMTTYPE=image/png:https://www.la-maison.be/wp-content/uploads/2025/08/Ateliers-pour-adolescents-de-11-à-15-ans.png
ORGANIZER;CN="Fanny%20Royen":MAILTO:info@pot-en-ciel.be
END:VEVENT
END:VCALENDAR